BEGIN:VCALENDAR
VERSION:2.0
PRODID:-//About Māngere Bridge - ECPv6.15.20//NONSGML v1.0//EN
CALSCALE:GREGORIAN
METHOD:PUBLISH
X-WR-CALNAME:About Māngere Bridge
X-ORIGINAL-URL:https://aboutmangerebridge.nz
X-WR-CALDESC:Events for About Māngere Bridge
REFRESH-INTERVAL;VALUE=DURATION:PT1H
X-Robots-Tag:noindex
X-PUBLISHED-TTL:PT1H
BEGIN:VTIMEZONE
TZID:Pacific/Auckland
BEGIN:STANDARD
TZOFFSETFROM:+1300
TZOFFSETTO:+1200
TZNAME:NZST
DTSTART:20230401T140000
END:STANDARD
BEGIN:DAYLIGHT
TZOFFSETFROM:+1200
TZOFFSETTO:+1300
TZNAME:NZDT
DTSTART:20230923T140000
END:DAYLIGHT
BEGIN:STANDARD
TZOFFSETFROM:+1300
TZOFFSETTO:+1200
TZNAME:NZST
DTSTART:20240406T140000
END:STANDARD
BEGIN:DAYLIGHT
TZOFFSETFROM:+1200
TZOFFSETTO:+1300
TZNAME:NZDT
DTSTART:20240928T140000
END:DAYLIGHT
BEGIN:STANDARD
TZOFFSETFROM:+1300
TZOFFSETTO:+1200
TZNAME:NZST
DTSTART:20250405T140000
END:STANDARD
BEGIN:DAYLIGHT
TZOFFSETFROM:+1200
TZOFFSETTO:+1300
TZNAME:NZDT
DTSTART:20250927T140000
END:DAYLIGHT
END:VTIMEZONE
BEGIN:VEVENT
DTSTART;TZID=Pacific/Auckland:20241012T100000
DTEND;TZID=Pacific/Auckland:20241012T130000
DTSTAMP:20260426T101046
CREATED:20240901T203350Z
LAST-MODIFIED:20240901T204700Z
UID:10000932-1728727200-1728738000@aboutmangerebridge.nz
SUMMARY:Repair Cafe - Sat 12th Oct 2024
DESCRIPTION:Do you have any small items that need fixing? Bring them along.\nRepair cafes are free events where local people bring in damaged or broken items and volunteers repair them. This reduces waste\, saves money\, and raises community awareness about waste.\nWe’ll have skilled volunteers on hand to fix bikes\, sew ripped clothes\, mend damaged books\, and fix small household electrical and wooden items.\nEnjoy a cuppa while you wait.
URL:https://aboutmangerebridge.nz/event/repair-cafe-sat-12th-oct-2024/
LOCATION:Māngere Bridge Library\, 5/7 Church Road\, Māngere Bridge\, Auckland\, 2022\, New Zealand
CATEGORIES:Community Events,Free events,Friends of the Farm
ATTACH;FMTTYPE=image/jpeg:https://aboutmangerebridge.nz/wp-content/uploads/2024/09/repair-cafe-title-oct-2024.jpg
ORGANIZER;CN="Friends of the Farm":MAILTO:friends@fof.nz
END:VEVENT
BEGIN:VEVENT
DTSTART;TZID=Pacific/Auckland:20241020T140000
DTEND;TZID=Pacific/Auckland:20241020T160000
DTSTAMP:20260426T101046
CREATED:20240917T220837Z
LAST-MODIFIED:20241003T205223Z
UID:10000935-1729432800-1729440000@aboutmangerebridge.nz
SUMMARY:Foreshore Clean Up - Sun 20th Oct 2-4pm
DESCRIPTION:NOTE: this event has been changed from Saturday 19th October due to a clash with another event our crew will be involved in. \nJoin us on Sunday 20th October between 2 – 4pm to clean up the foreshore/park down at the carpark opposite the GAS. \nWe would love it if you could spare an hour or 2 of your time to make Māngere Bridge more beautiful. \nSee you there!
URL:https://aboutmangerebridge.nz/event/foreshore-clean-up-sun-20th-oct-2-4pm/
LOCATION:Park at cnr Kiwi Esplanade & Coronation Road\, cnr Kiwi Esplanade & Coronation Road\, Auckland\, New Zealand
CATEGORIES:Community Events,For the kids,Friends of the Farm
ATTACH;FMTTYPE=image/jpeg:https://aboutmangerebridge.nz/wp-content/uploads/2022/09/volunteers-and-rubbish-pile-scaled.jpg
ORGANIZER;CN="Friends of the Farm":MAILTO:friends@fof.nz
GEO:-36.93913;174.785699
X-APPLE-STRUCTURED-LOCATION;VALUE=URI;X-ADDRESS=Park at cnr Kiwi Esplanade & Coronation Road cnr Kiwi Esplanade & Coronation Road Auckland New Zealand;X-APPLE-RADIUS=500;X-TITLE=cnr Kiwi Esplanade & Coronation Road:geo:174.785699,-36.93913
END:VEVENT
END:VCALENDAR