BEGIN:VCALENDAR
VERSION:2.0
PRODID:-//About Māngere Bridge - ECPv6.15.20//NONSGML v1.0//EN
CALSCALE:GREGORIAN
METHOD:PUBLISH
X-ORIGINAL-URL:https://aboutmangerebridge.nz
X-WR-CALDESC:Events for About Māngere Bridge
REFRESH-INTERVAL;VALUE=DURATION:PT1H
X-Robots-Tag:noindex
X-PUBLISHED-TTL:PT1H
BEGIN:VTIMEZONE
TZID:Pacific/Auckland
BEGIN:STANDARD
TZOFFSETFROM:+1300
TZOFFSETTO:+1200
TZNAME:NZST
DTSTART:20230401T140000
END:STANDARD
BEGIN:DAYLIGHT
TZOFFSETFROM:+1200
TZOFFSETTO:+1300
TZNAME:NZDT
DTSTART:20230923T140000
END:DAYLIGHT
BEGIN:STANDARD
TZOFFSETFROM:+1300
TZOFFSETTO:+1200
TZNAME:NZST
DTSTART:20240406T140000
END:STANDARD
BEGIN:DAYLIGHT
TZOFFSETFROM:+1200
TZOFFSETTO:+1300
TZNAME:NZDT
DTSTART:20240928T140000
END:DAYLIGHT
BEGIN:STANDARD
TZOFFSETFROM:+1300
TZOFFSETTO:+1200
TZNAME:NZST
DTSTART:20250405T140000
END:STANDARD
BEGIN:DAYLIGHT
TZOFFSETFROM:+1200
TZOFFSETTO:+1300
TZNAME:NZDT
DTSTART:20250927T140000
END:DAYLIGHT
END:VTIMEZONE
BEGIN:VEVENT
DTSTART;TZID=Pacific/Auckland:20240914T140000
DTEND;TZID=Pacific/Auckland:20240914T160000
DTSTAMP:20260426T122507
CREATED:20240829T012000Z
LAST-MODIFIED:20240829T012533Z
UID:10000931-1726322400-1726329600@aboutmangerebridge.nz
SUMMARY:Community Orchard Working Bee - Sat 14 Sept\, 2-4pm
DESCRIPTION:Interested in joining a keen local bunch of gardening enthusiasts?  Come and join Friends of the Farm’s next orchard working bee on Sat 14 Sept 2-4pm. \nJobs to do might include laying cardboard\, mulching\, planting\, weeding\, painting\, harvesting\, and anything else that turns up on the day.  It’s a never-ending task\, mulching our new food forest!  This forms part of our plan towards helping Mangere Bridge to become more food resilient; feeding our community well into the future from plants which have proven over time to grow well in our place. The reduction in waste from packaging and carbon emissions from air miles\, when you just have to walk down the road for a feed\, is an added bonus! \nGood company plus home-made baked goodies and tea/coffee will be your reward.  Look out for the Friends of the Farm flag on the side of the road near 82 Wallace Rd\, Mangere Bridge
URL:https://aboutmangerebridge.nz/event/community-orchard-working-bee-sat-14-sept-2-4pm/
LOCATION:Friends of the Farm Community Orchard\, behind 84 Wallace Rd\, Mangere Bridge\, Auckland\, 2022\, New Zealand
CATEGORIES:Community Events,For the kids,Friends of the Farm,Gardening,Māngere Bridge Community Orchard,Tree Planting
ATTACH;FMTTYPE=image/jpeg:https://aboutmangerebridge.nz/wp-content/uploads/2024/05/community-orchard-working-bee-title-generic.jpg
ORGANIZER;CN="Friends of the Farm":MAILTO:friends@fof.nz
END:VEVENT
BEGIN:VEVENT
DTSTART;TZID=Pacific/Auckland:20240922T123000
DTEND;TZID=Pacific/Auckland:20240922T150000
DTSTAMP:20260426T122507
CREATED:20240914T043007Z
LAST-MODIFIED:20240914T060554Z
UID:10000933-1727008200-1727017200@aboutmangerebridge.nz
SUMMARY:Kia Ora Kuaka | Hello Godwits - Sun 22 Sept 12:30 - 3:00pm
DESCRIPTION:Help us welcome back the Kuaka (Bar-tailed Godwit) from their annual Asian migration to Ambury Regional Park. This event will include a talk from a New Zealand birding expert\, a small afternoon tea\, and a guided walk and bird observation (approximately 1km each way)\, all in collaboration with Birds New Zealand.\n\nWho: Suitable for adults and older children with a keen interest in the environment and ornithology.\n\nWhen: Sunday\, 22 September – 12.30pm to 3.00pm\n\nWhere: Ambury Regional Park\, 43 Ambury Road\, Māngere Bridge\, Auckland. Meet at the Barn (near the main carpark).\n\nWhat to bring: Appropriate shoes for walking\, a water bottle\, binoculars\, sun protection and rain coats.\n\n\nContact\nSouthern Regional Parks\nsouthernsectorevents@aucklandcouncil.govt.nz\n09 301 0101 \n\n\nBookings\nhttps://www.eventbrite.co.nz/e/kia-ora-kuaka-hello-godwits-tickets-1012493985767\n09 301 0101\nsouthernsectorevents@aucklandcouncil.govt.nz
URL:https://aboutmangerebridge.nz/event/kia-ora-kuaka-hello-godwits-sun-22-sept-1230-300pm/
LOCATION:Ambury Regional Park\, 43 Ambury Road\, Māngere Bridge\, Auckland\, 2022\, New Zealand
CATEGORIES:Community Events,For the kids,Free events,Guided Walks,Learn something,Walks
ATTACH;FMTTYPE=image/jpeg:https://aboutmangerebridge.nz/wp-content/uploads/2024/09/godwit-feature-image.jpg
GEO:-36.945232167445;174.76462715213
X-APPLE-STRUCTURED-LOCATION;VALUE=URI;X-ADDRESS=Ambury Regional Park 43 Ambury Road Māngere Bridge Auckland 2022 New Zealand;X-APPLE-RADIUS=500;X-TITLE=43 Ambury Road:geo:174.76462715213,-36.945232167445
END:VEVENT
BEGIN:VEVENT
DTSTART;TZID=Pacific/Auckland:20240928T100000
DTEND;TZID=Pacific/Auckland:20240928T120000
DTSTAMP:20260426T122507
CREATED:20240720T232857Z
LAST-MODIFIED:20240913T003534Z
UID:10000928-1727517600-1727524800@aboutmangerebridge.nz
SUMMARY:Māngere Bridge Seedling & Seed Swap Day - Sat Sept 28\, 10am - 12pm
DESCRIPTION:Friends of the Farm and local Meegan have come together and are excited to share with you our first Spring Seed & Seedling Swap! \nDid you save seed from last year’s māra and end up with more than you’ll ever plant? Chances are you’re not alone. \nDo you ever sow seeds and have left over seedlings once you’ve planted out your garden? You’re probably not alone there as well. \nIf you’re new to the gardening world or just excited to get into another season of growing\, this event is for you! \n\nSeeds\nSeedlings\nOld pots\nPlant your own seedling\nLearn to make your own biodegradable seedling pots\nLearn to make your own biodegradable bags for food waste bins\n\nBring it on down and see what you can swap them for\, what you have too much of\, someone may have none…\nWhat you have none of\, someone may have plenty! \nCLICK HERE FOR OUR 10 PAGE SEED SWAP BOOKLET (4Mb PDF)
URL:https://aboutmangerebridge.nz/event/mangere-bridge-seedling-seed-swap-day/
LOCATION:Ambury Regional Park\, 43 Ambury Road\, Māngere Bridge\, Auckland\, 2022\, New Zealand
CATEGORIES:Community Events,For the kids,Free events,Friends of the Farm,Gardening,Learn something
ATTACH;FMTTYPE=image/jpeg:https://aboutmangerebridge.nz/wp-content/uploads/2024/07/title-seedling-swap-generic.jpg
ORGANIZER;CN="Friends of the Farm":MAILTO:friends@fof.nz
GEO:-36.945232167445;174.76462715213
X-APPLE-STRUCTURED-LOCATION;VALUE=URI;X-ADDRESS=Ambury Regional Park 43 Ambury Road Māngere Bridge Auckland 2022 New Zealand;X-APPLE-RADIUS=500;X-TITLE=43 Ambury Road:geo:174.76462715213,-36.945232167445
END:VEVENT
BEGIN:VEVENT
DTSTART;TZID=Pacific/Auckland:20240929T071500
DTEND;TZID=Pacific/Auckland:20240929T140000
DTSTAMP:20260426T122507
CREATED:20240916T003913Z
LAST-MODIFIED:20240916T004053Z
UID:10000934-1727594100-1727618400@aboutmangerebridge.nz
SUMMARY:The Mangere Bridge FUN Run\, Walk\, Stroll and Stride
DESCRIPTION:The Mangere Bridge FUN Run\, Walk\, Stroll and Stride is a FUN time for the whole family. \nWith distances of 5k\, 10k\, and 21k’s there is a distance for everyone. \nWith a whole bunch of activities at Home Base (Bill and Naomi Kirk Park) … The Run\, Walk\, Stroll and Stride will incorporate the Village\, the beautiful Kiwi Esplanade and Ambury Farm. \nThis event is one that anyone can do … people of all ages and abilities can take part – though please note\, children under the age of 14 are not permitted to take part in the 21k’s (1/2 Marathon) \nRegistration and Race Number pick up in the Naomi and Bill Kirk Park will open at 7.15am \nAll Runners\, Walkers\, Strollers and Striders need to check in on the day to get their number to be eligible for the spot prizes at the end. \n\n21k participants briefing will be at 7.45am Start time is 8.00am\n10k participants briefing will be at 8.45am. Start time is 9.00am\n5k participants briefing will be at 9.15am Start time is 9.30am.\n\nThis is a fun event for everyone. There will be no “winners” prizes as we are all winners for taking part. But we will have lots of spot prizes. Some we will announce before the day\, some at registration and some when everyone has finished. \nThere will be medals for those that complete the 21k’s \nThere will be food and beverages in the park and lots of activities for the kids with a Bouncy Castle\, Face Painters\, Balloon Artist and Live Entertainment \nThis is going to be a FUN day and we invite you to invite your family and friends to come along and have some fun together. \nIMPORTANT: If you register after the 25th September – on the day there will be a late entry fee for every participant !!! \nONLINE ENTRIES CLOSE AT 5.00pm ON\nWEDNESDAY 25th SEPTEMBER 2024 \n  \nSee mangerebridgerun.com
URL:https://aboutmangerebridge.nz/event/mangere-bridge-fun-run-walk-stroll-and-stride/
LOCATION:Māngere Bridge Village\, Coronation Road\, Māngere Bridge\, Auckland\, 2022\, New Zealand
CATEGORIES:Community Events,For the kids,Runs,Walks
ATTACH;FMTTYPE=image/jpeg:https://aboutmangerebridge.nz/wp-content/uploads/2024/09/FUN-RUN-2024.jpg
ORGANIZER;CN="M%C4%81ngere Bridge Business Association":MAILTO:info@mangerebridgecommunity.co.nz
END:VEVENT
END:VCALENDAR