BEGIN:VCALENDAR
VERSION:2.0
PRODID:-//About Māngere Bridge - ECPv6.15.20//NONSGML v1.0//EN
CALSCALE:GREGORIAN
METHOD:PUBLISH
X-ORIGINAL-URL:https://aboutmangerebridge.nz
X-WR-CALDESC:Events for About Māngere Bridge
REFRESH-INTERVAL;VALUE=DURATION:PT1H
X-Robots-Tag:noindex
X-PUBLISHED-TTL:PT1H
BEGIN:VTIMEZONE
TZID:Pacific/Auckland
BEGIN:STANDARD
TZOFFSETFROM:+1300
TZOFFSETTO:+1200
TZNAME:NZST
DTSTART:20230401T140000
END:STANDARD
BEGIN:DAYLIGHT
TZOFFSETFROM:+1200
TZOFFSETTO:+1300
TZNAME:NZDT
DTSTART:20230923T140000
END:DAYLIGHT
BEGIN:STANDARD
TZOFFSETFROM:+1300
TZOFFSETTO:+1200
TZNAME:NZST
DTSTART:20240406T140000
END:STANDARD
BEGIN:DAYLIGHT
TZOFFSETFROM:+1200
TZOFFSETTO:+1300
TZNAME:NZDT
DTSTART:20240928T140000
END:DAYLIGHT
BEGIN:STANDARD
TZOFFSETFROM:+1300
TZOFFSETTO:+1200
TZNAME:NZST
DTSTART:20250405T140000
END:STANDARD
BEGIN:DAYLIGHT
TZOFFSETFROM:+1200
TZOFFSETTO:+1300
TZNAME:NZDT
DTSTART:20250927T140000
END:DAYLIGHT
END:VTIMEZONE
BEGIN:VEVENT
DTSTART;TZID=Pacific/Auckland:20241102T140000
DTEND;TZID=Pacific/Auckland:20241102T160000
DTSTAMP:20260426T092721
CREATED:20241024T210925Z
LAST-MODIFIED:20241024T210925Z
UID:10000936-1730556000-1730563200@aboutmangerebridge.nz
SUMMARY:Community Orchard Working Bee - Sat 2 Nov\, 2-4pm
DESCRIPTION:Interested in joining a keen local bunch of gardening enthusiasts?  Come and join Friends of the Farm’s next orchard working bee on Sat 2 Nov 2-4pm. \nJobs to do might include laying cardboard\, mulching\, planting\, weeding\, painting\, harvesting\, and anything else that turns up on the day.  It’s a never-ending task\, mulching our new food forest!  This forms part of our plan towards helping Mangere Bridge to become more food resilient; feeding our community well into the future from plants which have proven over time to grow well in our place. The reduction in waste from packaging and carbon emissions from air miles\, when you just have to walk down the road for a feed\, is an added bonus! \nGood company plus home-made baked goodies and tea/coffee will be your reward.  Look out for the Friends of the Farm flag on the side of the road near 82 Wallace Rd\, Mangere Bridge
URL:https://aboutmangerebridge.nz/event/community-orchard-working-bee-sat-2-nov-2024-2-4pm/
LOCATION:Friends of the Farm Community Orchard\, behind 84 Wallace Rd\, Mangere Bridge\, Auckland\, 2022\, New Zealand
CATEGORIES:Community Events,For the kids,Friends of the Farm,Gardening,Māngere Bridge Community Orchard,Tree Planting
ATTACH;FMTTYPE=image/jpeg:https://aboutmangerebridge.nz/wp-content/uploads/2024/05/community-orchard-working-bee-title-generic.jpg
ORGANIZER;CN="Friends of the Farm":MAILTO:friends@fof.nz
END:VEVENT
BEGIN:VEVENT
DTSTART;TZID=Pacific/Auckland:20241123T100000
DTEND;TZID=Pacific/Auckland:20241123T150000
DTSTAMP:20260426T092721
CREATED:20241109T044408Z
LAST-MODIFIED:20241109T044521Z
UID:10000938-1732356000-1732374000@aboutmangerebridge.nz
SUMMARY:Love Your Maunga ki Te Pane o Mataoho / Te Ara Pueru / Māngere Mountain
DESCRIPTION:See https://www.facebook.com/events/512589835107706/\n\nCelebrate Community\, Culture\, and Conservation at Love Your Maunga!\nJoin us on Saturday\, November 23\, 2024\, for the Love Your Maunga event at Te Pane o Mataoho / Te Ara Pueru / Māngere Mountain!\nThe Tūpuna Maunga Authority in partnership with the Māngere-Ōtāhuhu Local Board invites everyone to this special gathering at the award-winning Whānau Ātea.\nCome together to honour the cultural significance of the ancestral mountains of Tāmaki Makaurau while enjoying a day full of engaging activities for the whole whānau! Here’s what we have planned:\n– Community Hāngī Fundraiser: Enjoy a delicious hāngī for just $10! Proceeds support Etū Rākau and the new mara kai (garden) at the Māngere Community Enviro Hub\, promoting sustainable food practices.\n– Kēmu Māori and Cultural Workshops: Join Harko Brown and the Māngere Mountain Education Centre team for interactive Māori games and activities that celebrate our rich cultural heritage.\n– Tūpuna Maunga Information Hub: Learn about the Tūpuna Maunga Authority’s conservation work and how you can get involved in initiatives like native planting days and pest-free trapping.\n– Maunga Clean-Up: Etū Rākau will lead a clean-up activation to help spread awareness of the impact of rubbish to our natural environment. Collected rubbish will be creatively repurposed for fun activities throughout the day!\nLet’s come together to celebrate and protect our cherished Tūpuna Maunga. Bring your whānau and friends for a day of connection\, learning\, and fun!\nDate: Saturday\, November 23\, 2024Time: 10:00 am – 3:00 pmLocation: Whānau Ātea\, Te Pane o Mataoho / Te Ara Pueru / Māngere MountainHāngī: Served from 12pm – 3pm or until sold out!\nWe can’t wait to see you there!
URL:https://aboutmangerebridge.nz/event/love-your-maunga-ki-te-pane-o-mataoho-te-ara-pueru-mangere-mountain/
LOCATION:Māngere Memorial Hall\, 23 Domain Road\, Māngere Bridge\, Auckland\, 2022\, New Zealand
CATEGORIES:Community Events,For the kids,Free events,Māngere Bridge Community Orchard
ATTACH;FMTTYPE=image/jpeg:https://aboutmangerebridge.nz/wp-content/uploads/2024/11/title-love-our-maunga.jpg
END:VEVENT
END:VCALENDAR