BEGIN:VCALENDAR
VERSION:2.0
PRODID:-//About Māngere Bridge - ECPv6.15.20//NONSGML v1.0//EN
CALSCALE:GREGORIAN
METHOD:PUBLISH
X-ORIGINAL-URL:https://aboutmangerebridge.nz
X-WR-CALDESC:Events for About Māngere Bridge
REFRESH-INTERVAL;VALUE=DURATION:PT1H
X-Robots-Tag:noindex
X-PUBLISHED-TTL:PT1H
BEGIN:VTIMEZONE
TZID:Pacific/Auckland
BEGIN:STANDARD
TZOFFSETFROM:+1300
TZOFFSETTO:+1200
TZNAME:NZST
DTSTART:20240406T140000
END:STANDARD
BEGIN:DAYLIGHT
TZOFFSETFROM:+1200
TZOFFSETTO:+1300
TZNAME:NZDT
DTSTART:20240928T140000
END:DAYLIGHT
BEGIN:STANDARD
TZOFFSETFROM:+1300
TZOFFSETTO:+1200
TZNAME:NZST
DTSTART:20250405T140000
END:STANDARD
BEGIN:DAYLIGHT
TZOFFSETFROM:+1200
TZOFFSETTO:+1300
TZNAME:NZDT
DTSTART:20250927T140000
END:DAYLIGHT
BEGIN:STANDARD
TZOFFSETFROM:+1300
TZOFFSETTO:+1200
TZNAME:NZST
DTSTART:20260404T140000
END:STANDARD
BEGIN:DAYLIGHT
TZOFFSETFROM:+1200
TZOFFSETTO:+1300
TZNAME:NZDT
DTSTART:20260926T140000
END:DAYLIGHT
END:VTIMEZONE
BEGIN:VEVENT
DTSTART;TZID=Pacific/Auckland:20250405T140000
DTEND;TZID=Pacific/Auckland:20250405T160000
DTSTAMP:20260421T090222
CREATED:20250330T214743Z
LAST-MODIFIED:20250330T235406Z
UID:10000987-1743861600-1743868800@aboutmangerebridge.nz
SUMMARY:Community Orchard Working Bee - Sat 5 Apr\, 2-4pm
DESCRIPTION:Interested in joining a keen local bunch of gardening enthusiasts?  Come and join Friends of the Farm’s next orchard working bee on Saturday 5th April  2-4pm. \nJobs to do will include thinning flax\, spreading horse poo and learning how to prune stonefruit trees at the end of summer. \nThis forms part of our plan towards helping Mangere Bridge to become more food resilient; feeding our community well into the future from plants which have proven over time to grow well in our place. The reduction in waste from packaging and carbon emissions from air miles\, when you just have to walk down the road for a feed\, is an added bonus! \nGood company plus home-made baked goodies and tea/coffee will be your reward.  Look out for the Friends of the Farm flag on the side of the road near 82 Wallace Rd\, Mangere Bridge
URL:https://aboutmangerebridge.nz/event/community-orchard-working-bee-sat-5-apr-2025-2-4pm/
LOCATION:Friends of the Farm Community Orchard\, behind 84 Wallace Rd\, Mangere Bridge\, Auckland\, 2022\, New Zealand
CATEGORIES:Community Events,For the kids,Friends of the Farm,Gardening,Māngere Bridge Community Orchard,Tree Planting
ATTACH;FMTTYPE=image/jpeg:https://aboutmangerebridge.nz/wp-content/uploads/2024/05/community-orchard-working-bee-title-generic.jpg
ORGANIZER;CN="Friends of the Farm":MAILTO:friends@fof.nz
END:VEVENT
BEGIN:VEVENT
DTSTART;TZID=Pacific/Auckland:20250412T103000
DTEND;TZID=Pacific/Auckland:20250412T110000
DTSTAMP:20260421T090222
CREATED:20250317T232838Z
LAST-MODIFIED:20250318T000344Z
UID:10000942-1744453800-1744455600@aboutmangerebridge.nz
SUMMARY:Māngere Bridge Library - Family Fun
DESCRIPTION:Join us for the exciting sessions that combine Storytime\, Rhymetime\, and Wriggle & Rhyme. Perfect for families who can’t make our regular weekday sessions or just want to squeeze in a little more fun!
URL:https://aboutmangerebridge.nz/event/mangere-bridge-library-family-fun/2025-04-12/
LOCATION:Māngere Bridge Library\, 5/7 Church Road\, Māngere Bridge\, Auckland\, 2022\, New Zealand
CATEGORIES:Art & Crafts,Community Events,For the kids,Free events,Learn something
ATTACH;FMTTYPE=image/jpeg:https://aboutmangerebridge.nz/wp-content/uploads/2022/09/mangere-bridge-library.jpg
END:VEVENT
BEGIN:VEVENT
DTSTART;TZID=Pacific/Auckland:20250412T143000
DTEND;TZID=Pacific/Auckland:20250412T153000
DTSTAMP:20260421T090222
CREATED:20250317T233037Z
LAST-MODIFIED:20250318T000535Z
UID:10000948-1744468200-1744471800@aboutmangerebridge.nz
SUMMARY:Māngere Bridge Library - Bunny Cups
DESCRIPTION:Craft Table – Follow the instructions to make a cute bunny cup to store your odds and ends or maybe some easter eggs.
URL:https://aboutmangerebridge.nz/event/mangere-bridge-library-bunny-cups/2025-04-12/
LOCATION:Māngere Bridge Library\, 5/7 Church Road\, Māngere Bridge\, Auckland\, 2022\, New Zealand
CATEGORIES:Art & Crafts,Community Events,For the kids,Free events,Learn something
ATTACH;FMTTYPE=image/jpeg:https://aboutmangerebridge.nz/wp-content/uploads/2022/09/mangere-bridge-library.jpg
END:VEVENT
BEGIN:VEVENT
DTSTART;TZID=Pacific/Auckland:20250413T100000
DTEND;TZID=Pacific/Auckland:20250413T230000
DTSTAMP:20260421T090222
CREATED:20250317T233037Z
LAST-MODIFIED:20250318T000535Z
UID:10000949-1744538400-1744585200@aboutmangerebridge.nz
SUMMARY:Māngere Bridge Library - Bunny Cups
DESCRIPTION:Craft Table – Follow the instructions to make a cute bunny cup to store your odds and ends or maybe some easter eggs.
URL:https://aboutmangerebridge.nz/event/mangere-bridge-library-bunny-cups/2025-04-13/
LOCATION:Māngere Bridge Library\, 5/7 Church Road\, Māngere Bridge\, Auckland\, 2022\, New Zealand
CATEGORIES:Art & Crafts,Community Events,For the kids,Free events,Learn something
ATTACH;FMTTYPE=image/jpeg:https://aboutmangerebridge.nz/wp-content/uploads/2022/09/mangere-bridge-library.jpg
END:VEVENT
BEGIN:VEVENT
DTSTART;TZID=Pacific/Auckland:20250414T103000
DTEND;TZID=Pacific/Auckland:20250414T113000
DTSTAMP:20260421T090222
CREATED:20250317T233309Z
LAST-MODIFIED:20250318T000609Z
UID:10000953-1744626600-1744630200@aboutmangerebridge.nz
SUMMARY:Māngere Bridge Library - Marshmallow Bunnies
DESCRIPTION:Calling all sweet tooths join us as we make some fluffy bunnies from marshmallow\, and the best part you can eat them when you get home.
URL:https://aboutmangerebridge.nz/event/mangere-bridge-library-marshmallow-bunnies/2025-04-14/
LOCATION:Māngere Bridge Library\, 5/7 Church Road\, Māngere Bridge\, Auckland\, 2022\, New Zealand
CATEGORIES:Art & Crafts,Community Events,For the kids,Free events,Learn something
ATTACH;FMTTYPE=image/jpeg:https://aboutmangerebridge.nz/wp-content/uploads/2022/09/mangere-bridge-library.jpg
END:VEVENT
BEGIN:VEVENT
DTSTART;TZID=Pacific/Auckland:20250414T143000
DTEND;TZID=Pacific/Auckland:20250414T163000
DTSTAMP:20260421T090222
CREATED:20250317T233542Z
LAST-MODIFIED:20250318T000652Z
UID:10000957-1744641000-1744648200@aboutmangerebridge.nz
SUMMARY:Māngere Bridge Library - Lego
DESCRIPTION:LEGO enthusiasts can compete against each other in brick-building challenges to be crowned LEGO Master. Or if you are not in a competitive frame of mind\, build whatever takes your fancy.
URL:https://aboutmangerebridge.nz/event/mangere-bridge-library-lego/2025-04-14/
LOCATION:Māngere Bridge Library\, 5/7 Church Road\, Māngere Bridge\, Auckland\, 2022\, New Zealand
CATEGORIES:Art & Crafts,Community Events,For the kids,Free events,Learn something
ATTACH;FMTTYPE=image/jpeg:https://aboutmangerebridge.nz/wp-content/uploads/2022/09/mangere-bridge-library.jpg
END:VEVENT
BEGIN:VEVENT
DTSTART;TZID=Pacific/Auckland:20250415T103000
DTEND;TZID=Pacific/Auckland:20250415T113000
DTSTAMP:20260421T090222
CREATED:20250317T233952Z
LAST-MODIFIED:20250318T063434Z
UID:10000981-1744713000-1744716600@aboutmangerebridge.nz
SUMMARY:Māngere Bridge Library - Facecloth Bunnies
DESCRIPTION:Learn to make these cute and useful Easter bunnies to keep or to give away to someone you love.
URL:https://aboutmangerebridge.nz/event/mangere-bridge-library-facecloth-bunnies/2025-04-15/
LOCATION:Māngere Bridge Library\, 5/7 Church Road\, Māngere Bridge\, Auckland\, 2022\, New Zealand
CATEGORIES:Art & Crafts,Community Events,For the kids,Free events,Learn something
ATTACH;FMTTYPE=image/jpeg:https://aboutmangerebridge.nz/wp-content/uploads/2022/09/mangere-bridge-library.jpg
END:VEVENT
BEGIN:VEVENT
DTSTART;TZID=Pacific/Auckland:20250415T143000
DTEND;TZID=Pacific/Auckland:20250415T153000
DTSTAMP:20260421T090222
CREATED:20250317T233309Z
LAST-MODIFIED:20250318T000609Z
UID:10000954-1744727400-1744731000@aboutmangerebridge.nz
SUMMARY:Māngere Bridge Library - Marshmallow Bunnies
DESCRIPTION:Calling all sweet tooths join us as we make some fluffy bunnies from marshmallow\, and the best part you can eat them when you get home.
URL:https://aboutmangerebridge.nz/event/mangere-bridge-library-marshmallow-bunnies/2025-04-15/
LOCATION:Māngere Bridge Library\, 5/7 Church Road\, Māngere Bridge\, Auckland\, 2022\, New Zealand
CATEGORIES:Art & Crafts,Community Events,For the kids,Free events,Learn something
ATTACH;FMTTYPE=image/jpeg:https://aboutmangerebridge.nz/wp-content/uploads/2022/09/mangere-bridge-library.jpg
END:VEVENT
BEGIN:VEVENT
DTSTART;TZID=Pacific/Auckland:20250416T103000
DTEND;TZID=Pacific/Auckland:20250416T113000
DTSTAMP:20260421T090222
CREATED:20250317T235723Z
LAST-MODIFIED:20250318T063621Z
UID:10000982-1744799400-1744803000@aboutmangerebridge.nz
SUMMARY:Māngere Bridge Library - Easter Storytime & Craft
DESCRIPTION:Easter stories\, songs\, music and a simple craft of making bunny headbands
URL:https://aboutmangerebridge.nz/event/mangere-bridge-library-easter-or-anzac-crosses-2/
LOCATION:Māngere Bridge Library\, 5/7 Church Road\, Māngere Bridge\, Auckland\, 2022\, New Zealand
CATEGORIES:Art & Crafts,Community Events,For the kids,Free events,Learn something
END:VEVENT
BEGIN:VEVENT
DTSTART;TZID=Pacific/Auckland:20250416T143000
DTEND;TZID=Pacific/Auckland:20250416T163000
DTSTAMP:20260421T090222
CREATED:20250317T233701Z
LAST-MODIFIED:20250318T000712Z
UID:10000961-1744813800-1744821000@aboutmangerebridge.nz
SUMMARY:Māngere Bridge Library - Minecraft
DESCRIPTION:Meet other like-minded gamers and swap tips and tricks. Please bring your own device (laptop\, iPad\, iPod\, Android\, etc) as the library ipads are limited. You will require your own Minecraft registration and logon. This is available from http://minecraft.net
URL:https://aboutmangerebridge.nz/event/mangere-bridge-library-minecraft/2025-04-16/
LOCATION:Māngere Bridge Library\, 5/7 Church Road\, Māngere Bridge\, Auckland\, 2022\, New Zealand
CATEGORIES:Art & Crafts,Community Events,For the kids,Free events,Learn something
ATTACH;FMTTYPE=image/jpeg:https://aboutmangerebridge.nz/wp-content/uploads/2022/09/mangere-bridge-library.jpg
END:VEVENT
BEGIN:VEVENT
DTSTART;TZID=Pacific/Auckland:20250417T103000
DTEND;TZID=Pacific/Auckland:20250417T110000
DTSTAMP:20260421T090222
CREATED:20250317T233846Z
LAST-MODIFIED:20250318T000730Z
UID:10000965-1744885800-1744887600@aboutmangerebridge.nz
SUMMARY:Māngere Bridge Library - Rhymetime
DESCRIPTION:Join our Rhymetime sessions with songs\, movement and finger rhymes for pre-schoolers and their caregivers. Suitable for ages 18 months to three years. Older pre-schoolers are also welcome.
URL:https://aboutmangerebridge.nz/event/mangere-bridge-library-rhymetime/2025-04-17/
LOCATION:Māngere Bridge Library\, 5/7 Church Road\, Māngere Bridge\, Auckland\, 2022\, New Zealand
CATEGORIES:Art & Crafts,Community Events,For the kids,Free events,Learn something
ATTACH;FMTTYPE=image/jpeg:https://aboutmangerebridge.nz/wp-content/uploads/2022/09/mangere-bridge-library.jpg
END:VEVENT
BEGIN:VEVENT
DTSTART;TZID=Pacific/Auckland:20250417T143000
DTEND;TZID=Pacific/Auckland:20250417T153000
DTSTAMP:20260421T090222
CREATED:20250317T233952Z
LAST-MODIFIED:20250318T063434Z
UID:10000967-1744900200-1744903800@aboutmangerebridge.nz
SUMMARY:Māngere Bridge Library - Facecloth Bunnies
DESCRIPTION:Learn to make these cute and useful Easter bunnies to keep or to give away to someone you love.
URL:https://aboutmangerebridge.nz/event/mangere-bridge-library-facecloth-bunnies/2025-04-17/
LOCATION:Māngere Bridge Library\, 5/7 Church Road\, Māngere Bridge\, Auckland\, 2022\, New Zealand
CATEGORIES:Art & Crafts,Community Events,For the kids,Free events,Learn something
ATTACH;FMTTYPE=image/jpeg:https://aboutmangerebridge.nz/wp-content/uploads/2022/09/mangere-bridge-library.jpg
END:VEVENT
BEGIN:VEVENT
DTSTART;TZID=Pacific/Auckland:20250419T103000
DTEND;TZID=Pacific/Auckland:20250419T110000
DTSTAMP:20260421T090222
CREATED:20250317T232838Z
LAST-MODIFIED:20250318T000344Z
UID:10000943-1745058600-1745060400@aboutmangerebridge.nz
SUMMARY:Māngere Bridge Library - Family Fun
DESCRIPTION:Join us for the exciting sessions that combine Storytime\, Rhymetime\, and Wriggle & Rhyme. Perfect for families who can’t make our regular weekday sessions or just want to squeeze in a little more fun!
URL:https://aboutmangerebridge.nz/event/mangere-bridge-library-family-fun/2025-04-19/
LOCATION:Māngere Bridge Library\, 5/7 Church Road\, Māngere Bridge\, Auckland\, 2022\, New Zealand
CATEGORIES:Art & Crafts,Community Events,For the kids,Free events,Learn something
ATTACH;FMTTYPE=image/jpeg:https://aboutmangerebridge.nz/wp-content/uploads/2022/09/mangere-bridge-library.jpg
END:VEVENT
BEGIN:VEVENT
DTSTART;TZID=Pacific/Auckland:20250419T143000
DTEND;TZID=Pacific/Auckland:20250419T153000
DTSTAMP:20260421T090222
CREATED:20250317T234130Z
LAST-MODIFIED:20250318T000927Z
UID:10000969-1745073000-1745076600@aboutmangerebridge.nz
SUMMARY:Māngere Bridge Library - Easter or Anzac crosses
DESCRIPTION:Crosses are a symbol for remembrance. Make a cross for either Easter or to remember Anzac soldiers.
URL:https://aboutmangerebridge.nz/event/mangere-bridge-library-easter-or-anzac-crosses/2025-04-19/
LOCATION:Māngere Bridge Library\, 5/7 Church Road\, Māngere Bridge\, Auckland\, 2022\, New Zealand
CATEGORIES:Art & Crafts,Community Events,For the kids,Free events,Learn something
ATTACH;FMTTYPE=image/jpeg:https://aboutmangerebridge.nz/wp-content/uploads/2022/09/mangere-bridge-library.jpg
END:VEVENT
BEGIN:VEVENT
DTSTART;TZID=Pacific/Auckland:20250422T103000
DTEND;TZID=Pacific/Auckland:20250422T113000
DTSTAMP:20260421T090222
CREATED:20250317T234253Z
LAST-MODIFIED:20250318T064137Z
UID:10000983-1745317800-1745321400@aboutmangerebridge.nz
SUMMARY:Māngere Bridge Library - Yarn Poppies
DESCRIPTION:Make a poppy from yarn to wear in commemoration of our Anzac heroes.
URL:https://aboutmangerebridge.nz/event/mangere-bridge-library-yarn-poppies/2025-04-22/
LOCATION:Māngere Bridge Library\, 5/7 Church Road\, Māngere Bridge\, Auckland\, 2022\, New Zealand
CATEGORIES:Art & Crafts,Community Events,For the kids,Free events,Learn something
ATTACH;FMTTYPE=image/jpeg:https://aboutmangerebridge.nz/wp-content/uploads/2022/09/mangere-bridge-library.jpg
END:VEVENT
BEGIN:VEVENT
DTSTART;TZID=Pacific/Auckland:20250422T143000
DTEND;TZID=Pacific/Auckland:20250422T163000
DTSTAMP:20260421T090222
CREATED:20250317T233542Z
LAST-MODIFIED:20250318T000652Z
UID:10000958-1745332200-1745339400@aboutmangerebridge.nz
SUMMARY:Māngere Bridge Library - Lego
DESCRIPTION:LEGO enthusiasts can compete against each other in brick-building challenges to be crowned LEGO Master. Or if you are not in a competitive frame of mind\, build whatever takes your fancy.
URL:https://aboutmangerebridge.nz/event/mangere-bridge-library-lego/2025-04-22/
LOCATION:Māngere Bridge Library\, 5/7 Church Road\, Māngere Bridge\, Auckland\, 2022\, New Zealand
CATEGORIES:Art & Crafts,Community Events,For the kids,Free events,Learn something
ATTACH;FMTTYPE=image/jpeg:https://aboutmangerebridge.nz/wp-content/uploads/2022/09/mangere-bridge-library.jpg
END:VEVENT
BEGIN:VEVENT
DTSTART;TZID=Pacific/Auckland:20250423T103000
DTEND;TZID=Pacific/Auckland:20250423T113000
DTSTAMP:20260421T090222
CREATED:20250317T234402Z
LAST-MODIFIED:20250318T000950Z
UID:10000973-1745404200-1745407800@aboutmangerebridge.nz
SUMMARY:Māngere Bridge Library - Anzac Storytime & Craft
DESCRIPTION:ANZAC stories\, songs\, music and a simple craft of decorating Anzac biscuits
URL:https://aboutmangerebridge.nz/event/mangere-bridge-library-anzac-storytime-craft/
LOCATION:Māngere Bridge Library\, 5/7 Church Road\, Māngere Bridge\, Auckland\, 2022\, New Zealand
CATEGORIES:Art & Crafts,Community Events,For the kids,Free events,Learn something
ATTACH;FMTTYPE=image/jpeg:https://aboutmangerebridge.nz/wp-content/uploads/2022/09/mangere-bridge-library.jpg
END:VEVENT
BEGIN:VEVENT
DTSTART;TZID=Pacific/Auckland:20250423T143000
DTEND;TZID=Pacific/Auckland:20250423T163000
DTSTAMP:20260421T090222
CREATED:20250317T233701Z
LAST-MODIFIED:20250318T000712Z
UID:10000962-1745418600-1745425800@aboutmangerebridge.nz
SUMMARY:Māngere Bridge Library - Minecraft
DESCRIPTION:Meet other like-minded gamers and swap tips and tricks. Please bring your own device (laptop\, iPad\, iPod\, Android\, etc) as the library ipads are limited. You will require your own Minecraft registration and logon. This is available from http://minecraft.net
URL:https://aboutmangerebridge.nz/event/mangere-bridge-library-minecraft/2025-04-23/
LOCATION:Māngere Bridge Library\, 5/7 Church Road\, Māngere Bridge\, Auckland\, 2022\, New Zealand
CATEGORIES:Art & Crafts,Community Events,For the kids,Free events,Learn something
ATTACH;FMTTYPE=image/jpeg:https://aboutmangerebridge.nz/wp-content/uploads/2022/09/mangere-bridge-library.jpg
END:VEVENT
BEGIN:VEVENT
DTSTART;TZID=Pacific/Auckland:20250424T103000
DTEND;TZID=Pacific/Auckland:20250424T110000
DTSTAMP:20260421T090222
CREATED:20250317T233846Z
LAST-MODIFIED:20250318T000730Z
UID:10000966-1745490600-1745492400@aboutmangerebridge.nz
SUMMARY:Māngere Bridge Library - Rhymetime
DESCRIPTION:Join our Rhymetime sessions with songs\, movement and finger rhymes for pre-schoolers and their caregivers. Suitable for ages 18 months to three years. Older pre-schoolers are also welcome.
URL:https://aboutmangerebridge.nz/event/mangere-bridge-library-rhymetime/2025-04-24/
LOCATION:Māngere Bridge Library\, 5/7 Church Road\, Māngere Bridge\, Auckland\, 2022\, New Zealand
CATEGORIES:Art & Crafts,Community Events,For the kids,Free events,Learn something
ATTACH;FMTTYPE=image/jpeg:https://aboutmangerebridge.nz/wp-content/uploads/2022/09/mangere-bridge-library.jpg
END:VEVENT
BEGIN:VEVENT
DTSTART;TZID=Pacific/Auckland:20250424T143000
DTEND;TZID=Pacific/Auckland:20250424T153000
DTSTAMP:20260421T090222
CREATED:20250317T234253Z
LAST-MODIFIED:20250318T064137Z
UID:10000985-1745505000-1745508600@aboutmangerebridge.nz
SUMMARY:Māngere Bridge Library - Yarn Poppies
DESCRIPTION:Make a poppy from yarn to wear in commemoration of our Anzac heroes.
URL:https://aboutmangerebridge.nz/event/mangere-bridge-library-yarn-poppies/2025-04-24/
LOCATION:Māngere Bridge Library\, 5/7 Church Road\, Māngere Bridge\, Auckland\, 2022\, New Zealand
CATEGORIES:Art & Crafts,Community Events,For the kids,Free events,Learn something
ATTACH;FMTTYPE=image/jpeg:https://aboutmangerebridge.nz/wp-content/uploads/2022/09/mangere-bridge-library.jpg
END:VEVENT
BEGIN:VEVENT
DTSTART;TZID=Pacific/Auckland:20250426T103000
DTEND;TZID=Pacific/Auckland:20250426T110000
DTSTAMP:20260421T090222
CREATED:20250317T232838Z
LAST-MODIFIED:20250318T000344Z
UID:10000944-1745663400-1745665200@aboutmangerebridge.nz
SUMMARY:Māngere Bridge Library - Family Fun
DESCRIPTION:Join us for the exciting sessions that combine Storytime\, Rhymetime\, and Wriggle & Rhyme. Perfect for families who can’t make our regular weekday sessions or just want to squeeze in a little more fun!
URL:https://aboutmangerebridge.nz/event/mangere-bridge-library-family-fun/2025-04-26/
LOCATION:Māngere Bridge Library\, 5/7 Church Road\, Māngere Bridge\, Auckland\, 2022\, New Zealand
CATEGORIES:Art & Crafts,Community Events,For the kids,Free events,Learn something
ATTACH;FMTTYPE=image/jpeg:https://aboutmangerebridge.nz/wp-content/uploads/2022/09/mangere-bridge-library.jpg
END:VEVENT
BEGIN:VEVENT
DTSTART;TZID=Pacific/Auckland:20250426T170000
DTEND;TZID=Pacific/Auckland:20250426T220000
DTSTAMP:20260421T090222
CREATED:20250404T053911Z
LAST-MODIFIED:20250404T053911Z
UID:10000988-1745686800-1745704800@aboutmangerebridge.nz
SUMMARY:The Mangere Bridge Village Lights Festival 2025
DESCRIPTION: Village Lights Immerse yourself in a spectacular light display that’s sure to dazzle and delight! Entry is free\, so bring the whole family and enjoy an evening of wonder. Explore a variety of mouthwatering food stalls and indulge in treats while soaking in the vibrant atmosphere. Fun awaits for all ages—don’t miss it!
URL:https://aboutmangerebridge.nz/event/the-mangere-bridge-village-lights-festival-2025/
LOCATION:Naomi and Bill Kirk Park\, Māngere Bridge\, 33 Coronation Road\, Auckland\, 2022\, New Zealand
CATEGORIES:Community Events,For the kids,Runs,Walks
ATTACH;FMTTYPE=image/jpeg:https://aboutmangerebridge.nz/wp-content/uploads/2025/04/village-lights-2025.jpg
ORGANIZER;CN="M%C4%81ngere Bridge Business Association":MAILTO:info@mangerebridgecommunity.co.nz
END:VEVENT
BEGIN:VEVENT
DTSTART;TZID=Pacific/Auckland:20250427T100000
DTEND;TZID=Pacific/Auckland:20250427T230000
DTSTAMP:20260421T090222
CREATED:20250317T234130Z
LAST-MODIFIED:20250318T000927Z
UID:10000978-1745748000-1745794800@aboutmangerebridge.nz
SUMMARY:Māngere Bridge Library - Easter or Anzac crosses
DESCRIPTION:Crosses are a symbol for remembrance. Make a cross for either Easter or to remember Anzac soldiers.
URL:https://aboutmangerebridge.nz/event/mangere-bridge-library-easter-or-anzac-crosses/2025-04-27/
LOCATION:Māngere Bridge Library\, 5/7 Church Road\, Māngere Bridge\, Auckland\, 2022\, New Zealand
CATEGORIES:Art & Crafts,Community Events,For the kids,Free events,Learn something
ATTACH;FMTTYPE=image/jpeg:https://aboutmangerebridge.nz/wp-content/uploads/2022/09/mangere-bridge-library.jpg
END:VEVENT
END:VCALENDAR