BEGIN:VCALENDAR
VERSION:2.0
PRODID:-//About Māngere Bridge - ECPv6.15.20//NONSGML v1.0//EN
CALSCALE:GREGORIAN
METHOD:PUBLISH
X-ORIGINAL-URL:https://aboutmangerebridge.nz
X-WR-CALDESC:Events for About Māngere Bridge
REFRESH-INTERVAL;VALUE=DURATION:PT1H
X-Robots-Tag:noindex
X-PUBLISHED-TTL:PT1H
BEGIN:VTIMEZONE
TZID:Pacific/Auckland
BEGIN:STANDARD
TZOFFSETFROM:+1300
TZOFFSETTO:+1200
TZNAME:NZST
DTSTART:20230401T140000
END:STANDARD
BEGIN:DAYLIGHT
TZOFFSETFROM:+1200
TZOFFSETTO:+1300
TZNAME:NZDT
DTSTART:20230923T140000
END:DAYLIGHT
BEGIN:STANDARD
TZOFFSETFROM:+1300
TZOFFSETTO:+1200
TZNAME:NZST
DTSTART:20240406T140000
END:STANDARD
BEGIN:DAYLIGHT
TZOFFSETFROM:+1200
TZOFFSETTO:+1300
TZNAME:NZDT
DTSTART:20240928T140000
END:DAYLIGHT
BEGIN:STANDARD
TZOFFSETFROM:+1300
TZOFFSETTO:+1200
TZNAME:NZST
DTSTART:20250405T140000
END:STANDARD
BEGIN:DAYLIGHT
TZOFFSETFROM:+1200
TZOFFSETTO:+1300
TZNAME:NZDT
DTSTART:20250927T140000
END:DAYLIGHT
END:VTIMEZONE
BEGIN:VEVENT
DTSTART;TZID=Pacific/Auckland:20240713T100000
DTEND;TZID=Pacific/Auckland:20240713T130000
DTSTAMP:20260426T141449
CREATED:20240310T203735Z
LAST-MODIFIED:20240310T203751Z
UID:10000865-1720864800-1720875600@aboutmangerebridge.nz
SUMMARY:Winter 2024 Repair Cafe
DESCRIPTION:Do you have any small items that need fixing? Bring them along.\nRepair cafes are free events where local people bring in damaged or broken items and volunteers repair them. This reduces waste\, saves money\, and raises community awareness about waste.\nWe’ll have skilled volunteers on hand to fix bikes\, sew ripped clothes\, mend damaged books\, and fix small household electrical and wooden items.\nEnjoy a cuppa while you wait.
URL:https://aboutmangerebridge.nz/event/repair-cafe/
LOCATION:Māngere Bridge Library\, 5/7 Church Road\, Māngere Bridge\, Auckland\, 2022\, New Zealand
CATEGORIES:Community Events,Free events,Friends of the Farm
ATTACH;FMTTYPE=image/jpeg:https://aboutmangerebridge.nz/wp-content/uploads/2024/03/repair-cafe-title-winter-2024.jpg
ORGANIZER;CN="Friends of the Farm":MAILTO:friends@fof.nz
END:VEVENT
BEGIN:VEVENT
DTSTART;TZID=Pacific/Auckland:20240721T090000
DTEND;TZID=Pacific/Auckland:20240721T110000
DTSTAMP:20260426T141449
CREATED:20240624T204006Z
LAST-MODIFIED:20240718T002704Z
UID:10000927-1721552400-1721559600@aboutmangerebridge.nz
SUMMARY:POSTPONED: Mangroves - 2024's final seedling removal day
DESCRIPTION:POSTPONED\nDue to unforeseen circumstances\, we have had to postpone this event to a later date (September) to be confirmed. Apologies for any inconvenience.\n\nJoin us on the foreshore for mangrove seedling removals (60cm and smaller). This work is undertaken to protect the ecology of the foreshore for the wide variety of birds who are in the area. The exposed lava flows are a safe roosting area for them and the mudflats provide an accessible feeding ground. \nCome along and assist with sustaining the habitat for the birds of Mangere Bridge. \nWear old clothes\, sturdy shoes like old sneakers\, reef shoes or boat shoes. Bring your own gardening gloves and a bucket if you have them. \nSee you there!
URL:https://aboutmangerebridge.nz/event/mangroves-2024s-final-seedling-removal-day/
LOCATION:Māngere Boating Club\, Kiwi Esplanade\, Māngere Bridge\, Auckland 2022\, Auckland\, New Zealand
CATEGORIES:Community Events,For the kids,Free events,Friends of the Farm
ATTACH;FMTTYPE=image/jpeg:https://aboutmangerebridge.nz/wp-content/uploads/2024/06/event-mangroves-GENERIC.jpg
ORGANIZER;CN="Friends of the Farm":MAILTO:friends@fof.nz
END:VEVENT
END:VCALENDAR