BEGIN:VCALENDAR
VERSION:2.0
PRODID:-//About Māngere Bridge - ECPv6.15.20//NONSGML v1.0//EN
CALSCALE:GREGORIAN
METHOD:PUBLISH
X-WR-CALNAME:About Māngere Bridge
X-ORIGINAL-URL:https://aboutmangerebridge.nz
X-WR-CALDESC:Events for About Māngere Bridge
REFRESH-INTERVAL;VALUE=DURATION:PT1H
X-Robots-Tag:noindex
X-PUBLISHED-TTL:PT1H
BEGIN:VTIMEZONE
TZID:Pacific/Auckland
BEGIN:STANDARD
TZOFFSETFROM:+1300
TZOFFSETTO:+1200
TZNAME:NZST
DTSTART:20240406T140000
END:STANDARD
BEGIN:DAYLIGHT
TZOFFSETFROM:+1200
TZOFFSETTO:+1300
TZNAME:NZDT
DTSTART:20240928T140000
END:DAYLIGHT
BEGIN:STANDARD
TZOFFSETFROM:+1300
TZOFFSETTO:+1200
TZNAME:NZST
DTSTART:20250405T140000
END:STANDARD
BEGIN:DAYLIGHT
TZOFFSETFROM:+1200
TZOFFSETTO:+1300
TZNAME:NZDT
DTSTART:20250927T140000
END:DAYLIGHT
BEGIN:STANDARD
TZOFFSETFROM:+1300
TZOFFSETTO:+1200
TZNAME:NZST
DTSTART:20260404T140000
END:STANDARD
BEGIN:DAYLIGHT
TZOFFSETFROM:+1200
TZOFFSETTO:+1300
TZNAME:NZDT
DTSTART:20260926T140000
END:DAYLIGHT
END:VTIMEZONE
BEGIN:VEVENT
DTSTART;TZID=Pacific/Auckland:20250329T100000
DTEND;TZID=Pacific/Auckland:20250329T130000
DTSTAMP:20260421T070622
CREATED:20250210T202152Z
LAST-MODIFIED:20250210T202152Z
UID:10000939-1743242400-1743253200@aboutmangerebridge.nz
SUMMARY:Repair Cafe - Sat 29 March 2025
DESCRIPTION:Do you have any small items that need fixing? Bring them along. \nRepair cafes are free events where local people bring in damaged or broken items and volunteers repair them. This reduces waste\, saves money\, and raises community awareness about waste. \nWe’ll have skilled volunteers on hand to fix bikes\, sew ripped clothes\, mend damaged books\, and fix small household electrical and wooden items. \nEnjoy a cuppa while you wait.
URL:https://aboutmangerebridge.nz/event/repair-cafe-sat-29-march-2025/
LOCATION:Māngere Bridge Library\, 5/7 Church Road\, Māngere Bridge\, Auckland\, 2022\, New Zealand
CATEGORIES:Community Events,Free events,Friends of the Farm
ATTACH;FMTTYPE=image/jpeg:https://aboutmangerebridge.nz/wp-content/uploads/2025/02/repair-cafe-title-mar-2025.jpg
ORGANIZER;CN="Friends of the Farm":MAILTO:friends@fof.nz
END:VEVENT
END:VCALENDAR