BEGIN:VCALENDAR
VERSION:2.0
PRODID:-//About Māngere Bridge - ECPv6.15.20//NONSGML v1.0//EN
CALSCALE:GREGORIAN
METHOD:PUBLISH
X-ORIGINAL-URL:https://aboutmangerebridge.nz
X-WR-CALDESC:Events for About Māngere Bridge
REFRESH-INTERVAL;VALUE=DURATION:PT1H
X-Robots-Tag:noindex
X-PUBLISHED-TTL:PT1H
BEGIN:VTIMEZONE
TZID:Pacific/Auckland
BEGIN:STANDARD
TZOFFSETFROM:+1300
TZOFFSETTO:+1200
TZNAME:NZST
DTSTART:20230401T140000
END:STANDARD
BEGIN:DAYLIGHT
TZOFFSETFROM:+1200
TZOFFSETTO:+1300
TZNAME:NZDT
DTSTART:20230923T140000
END:DAYLIGHT
BEGIN:STANDARD
TZOFFSETFROM:+1300
TZOFFSETTO:+1200
TZNAME:NZST
DTSTART:20240406T140000
END:STANDARD
BEGIN:DAYLIGHT
TZOFFSETFROM:+1200
TZOFFSETTO:+1300
TZNAME:NZDT
DTSTART:20240928T140000
END:DAYLIGHT
BEGIN:STANDARD
TZOFFSETFROM:+1300
TZOFFSETTO:+1200
TZNAME:NZST
DTSTART:20250405T140000
END:STANDARD
BEGIN:DAYLIGHT
TZOFFSETFROM:+1200
TZOFFSETTO:+1300
TZNAME:NZDT
DTSTART:20250927T140000
END:DAYLIGHT
END:VTIMEZONE
BEGIN:VEVENT
DTSTART;TZID=Pacific/Auckland:20240316T140000
DTEND;TZID=Pacific/Auckland:20240316T160000
DTSTAMP:20260423T122811
CREATED:20240312T213409Z
LAST-MODIFIED:20240312T213620Z
UID:10000867-1710597600-1710604800@aboutmangerebridge.nz
SUMMARY:Māngere Bridge Community Orchard Working Bee
DESCRIPTION:It’s late summer and we will be running a pruning workshop and working bee. \nBrian will share his pruning skills with anyone wanting to learn\, bring your sharp secateurs\, or pruning saws. \nOtherwise we will be mulching and having a general tidy up. \n\nCome along and celebrate as we visit our Orchard and growing Food Forest right next door and give the bigger trees some TLC. \nTucked away in a quiet corner of Ambury Farm off Wallace Rd\, the orchard has been home to a grove of feijoa trees for many years and continues to be cared for and extended by community volunteers to include a wide range of other fruit trees for all to enjoy. \nWork often includes the following; \n\nCollecting sheep poo from sheep yards at farm\, filling bags and bringing to orchard\nFilling planter boxes with soil and sheep poo so we can plant peach stones at the right time.\nMulching and spreading sheep poo around fruit trees\nClearing kikuyu and weeds – around fruit trees and also around circular bed on food forest side\nHarvesting feijoas and other yummy stuff\nTidying/thinning harakeke\n\nFriends of the Farm run regular working bees at the orchard\, helping you connect with this wonderful resource. \nWear sturdy footwear and gloves are a good idea. \nHope to see you all there.
URL:https://aboutmangerebridge.nz/event/mangere-bridge-community-orchard-working-bee/
LOCATION:Friends of the Farm Community Orchard\, behind 84 Wallace Rd\, Mangere Bridge\, Auckland\, 2022\, New Zealand
CATEGORIES:Community Events,Free events,Friends of the Farm,Gardening,Learn something
ATTACH;FMTTYPE=image/jpeg:https://aboutmangerebridge.nz/wp-content/uploads/2022/09/mangere-bridge-community-orchard-GRAFT2.jpg
ORGANIZER;CN="Friends of the Farm":MAILTO:friends@fof.nz
END:VEVENT
END:VCALENDAR