BEGIN:VCALENDAR
VERSION:2.0
PRODID:-//About Māngere Bridge - ECPv6.15.20//NONSGML v1.0//EN
CALSCALE:GREGORIAN
METHOD:PUBLISH
X-ORIGINAL-URL:https://aboutmangerebridge.nz
X-WR-CALDESC:Events for About Māngere Bridge
REFRESH-INTERVAL;VALUE=DURATION:PT1H
X-Robots-Tag:noindex
X-PUBLISHED-TTL:PT1H
BEGIN:VTIMEZONE
TZID:Pacific/Auckland
BEGIN:STANDARD
TZOFFSETFROM:+1300
TZOFFSETTO:+1200
TZNAME:NZST
DTSTART:20230401T140000
END:STANDARD
BEGIN:DAYLIGHT
TZOFFSETFROM:+1200
TZOFFSETTO:+1300
TZNAME:NZDT
DTSTART:20230923T140000
END:DAYLIGHT
BEGIN:STANDARD
TZOFFSETFROM:+1300
TZOFFSETTO:+1200
TZNAME:NZST
DTSTART:20240406T140000
END:STANDARD
BEGIN:DAYLIGHT
TZOFFSETFROM:+1200
TZOFFSETTO:+1300
TZNAME:NZDT
DTSTART:20240928T140000
END:DAYLIGHT
BEGIN:STANDARD
TZOFFSETFROM:+1300
TZOFFSETTO:+1200
TZNAME:NZST
DTSTART:20250405T140000
END:STANDARD
BEGIN:DAYLIGHT
TZOFFSETFROM:+1200
TZOFFSETTO:+1300
TZNAME:NZDT
DTSTART:20250927T140000
END:DAYLIGHT
END:VTIMEZONE
BEGIN:VEVENT
DTSTART;TZID=Pacific/Auckland:20240622T140000
DTEND;TZID=Pacific/Auckland:20240622T160000
DTSTAMP:20260421T092918
CREATED:20240526T065409Z
LAST-MODIFIED:20240617T064315Z
UID:10000925-1719064800-1719072000@aboutmangerebridge.nz
SUMMARY:Community Orchard Working Bee - Sat 22 Jun 2-4pm
DESCRIPTION:Interested in joining a keen local bunch of gardening enthusiasts? \nCome and join Friends of the Farm’s next orchard working bee on Sat 22 June 2-4pm. \nJobs to do might include laying cardboard\, mulching\, planting\, weeding\, painting\, harvesting\, and anything else that turns up on the day. \nLook out for the Friends of the Farm flag on the side of the road near 82 Wallace Rd\, Mangere Bridge.
URL:https://aboutmangerebridge.nz/event/community-orchard-working-bee-sat-22-jun-2-4pm/
LOCATION:Friends of the Farm Community Orchard\, behind 84 Wallace Rd\, Mangere Bridge\, Auckland\, 2022\, New Zealand
CATEGORIES:Community Events,Free events,Friends of the Farm,Gardening,Learn something
ATTACH;FMTTYPE=image/jpeg:https://aboutmangerebridge.nz/wp-content/uploads/2024/05/community-orchard-working-bee-title-generic.jpg
ORGANIZER;CN="Friends of the Farm":MAILTO:friends@fof.nz
END:VEVENT
END:VCALENDAR