BEGIN:VCALENDAR
VERSION:2.0
PRODID:-//About Māngere Bridge - ECPv6.15.20//NONSGML v1.0//EN
CALSCALE:GREGORIAN
METHOD:PUBLISH
X-ORIGINAL-URL:https://aboutmangerebridge.nz
X-WR-CALDESC:Events for About Māngere Bridge
REFRESH-INTERVAL;VALUE=DURATION:PT1H
X-Robots-Tag:noindex
X-PUBLISHED-TTL:PT1H
BEGIN:VTIMEZONE
TZID:Pacific/Auckland
BEGIN:STANDARD
TZOFFSETFROM:+1300
TZOFFSETTO:+1200
TZNAME:NZST
DTSTART:20240406T140000
END:STANDARD
BEGIN:DAYLIGHT
TZOFFSETFROM:+1200
TZOFFSETTO:+1300
TZNAME:NZDT
DTSTART:20240928T140000
END:DAYLIGHT
BEGIN:STANDARD
TZOFFSETFROM:+1300
TZOFFSETTO:+1200
TZNAME:NZST
DTSTART:20250405T140000
END:STANDARD
BEGIN:DAYLIGHT
TZOFFSETFROM:+1200
TZOFFSETTO:+1300
TZNAME:NZDT
DTSTART:20250927T140000
END:DAYLIGHT
BEGIN:STANDARD
TZOFFSETFROM:+1300
TZOFFSETTO:+1200
TZNAME:NZST
DTSTART:20260404T140000
END:STANDARD
BEGIN:DAYLIGHT
TZOFFSETFROM:+1200
TZOFFSETTO:+1300
TZNAME:NZDT
DTSTART:20260926T140000
END:DAYLIGHT
END:VTIMEZONE
BEGIN:VEVENT
DTSTART;TZID=Pacific/Auckland:20251002T140000
DTEND;TZID=Pacific/Auckland:20251002T160000
DTSTAMP:20260422T070838
CREATED:20250525T213439Z
LAST-MODIFIED:20250602T220946Z
UID:10001016-1759413600-1759420800@aboutmangerebridge.nz
SUMMARY:Māngere Bridge Craft Group at Māngere Bridge Library
DESCRIPTION:The Māngere Bridge Craft Group knits and crochets items for personal projects as well as important charities like the Middlemore Foundation.\nA colourful pile of 6 blankets and 45 baby hats plus cardigans\, knitted slippers\, adult sized hats\, knitted toys\, and some tiny hats and booties for premature babies.   Over 10o items in one recent workshop!!\nThe group meets weekly every Thursday from 2:00-4:pm and monthly every third Saturday from 2:00-3:45 pm\, in the Māngere Bridge Library.\nAll are welcome to join in.\nPeople can knit or crochet their own projects or produce items for local charities.\nDonations of wool or cotton yarn are most welcome and can be dropped off anytime at the Māngere Bridge Library.
URL:https://aboutmangerebridge.nz/event/mangere-bridge-craft-group-at-mangere-bridge-library/2025-10-02/
LOCATION:Māngere Bridge Library\, 5/7 Church Road\, Māngere Bridge\, Auckland\, 2022\, New Zealand
CATEGORIES:Art & Crafts,Community Events,For the kids,Free events,Friends of the Farm,Learn something
ATTACH;FMTTYPE=image/jpeg:https://aboutmangerebridge.nz/wp-content/uploads/2025/05/craft-group-with-friends-of-the-farm-mangere-bridge.jpg
ORGANIZER;CN="Friends of the Farm":MAILTO:friends@fof.nz
END:VEVENT
BEGIN:VEVENT
DTSTART;TZID=Pacific/Auckland:20251004T100000
DTEND;TZID=Pacific/Auckland:20251004T120000
DTSTAMP:20260422T070838
CREATED:20250816T222455Z
LAST-MODIFIED:20250921T045818Z
UID:10001505-1759572000-1759579200@aboutmangerebridge.nz
SUMMARY:Māngere Bridge Seedling & Seed Swap Day: Saturday 4th Oct 10am - 12pm
DESCRIPTION:Friends of the Farm and Meeghan Jade have come together again and are excited to host another Spring Seedling and Seed Swap Day! Read on for this year’s twist… \n\nSaturday 4th October 2025 from 10 00am – 12.00 noon at Ambury Farm Park Barn\, Māngere Bridge.\nDo you sow more seeds than you usually plant out?\n Did you save an abundance of seeds from last year’s gardening?\nCompletely new to gardening and want to get off to a helpful start?\nMorning tea and home made cookies will be available whilst we share gardening tips tricks !\n\nBring on down your extra seed harvests\, seedlings – veges or flowers\, any type of plant that grows can come along to be swapped. \nDon’t have anything to bring? Come on down anyway\, maybe the seed that’s planted will be the idea of a new garden. Or trying something new to grow! \nWe will show you how to use old newspaper to make biodegradable seedling pots as well as handy bags for gifting harvests or lining the food waste bins! \nAnything that is left over will be planted out at the local community gardens! \nThis year\, we will also have giant pumpkin seedlings to give to people/families that register to enter the \nGIANT PUMPKIN GROWING COMPETITION\nNot only will you need to register for the competition and collect your seedling at the seedling swap day\, but you will also need a large sunny spot in a garden to grow it. \nTo register please email friends@fof.nz \nWe will have horse poo that you can take to get started growing your giant pumpkin. \nClick here to read about how successful our first (2024) seedling swap day was.
URL:https://aboutmangerebridge.nz/event/mangere-bridge-seedling-seed-swap-day-sat-oct-4-10am-12pm/
LOCATION:Ambury Regional Park\, 43 Ambury Road\, Māngere Bridge\, Auckland\, 2022\, New Zealand
CATEGORIES:Community Events,For the kids,Free events,Friends of the Farm,Gardening,Learn something
ATTACH;FMTTYPE=image/jpeg:https://aboutmangerebridge.nz/wp-content/uploads/2024/07/title-seedling-swap-generic.jpg
ORGANIZER;CN="Friends of the Farm":MAILTO:friends@fof.nz
GEO:-36.945232167445;174.76462715213
X-APPLE-STRUCTURED-LOCATION;VALUE=URI;X-ADDRESS=Ambury Regional Park 43 Ambury Road Māngere Bridge Auckland 2022 New Zealand;X-APPLE-RADIUS=500;X-TITLE=43 Ambury Road:geo:174.76462715213,-36.945232167445
END:VEVENT
BEGIN:VEVENT
DTSTART;TZID=Pacific/Auckland:20251009T140000
DTEND;TZID=Pacific/Auckland:20251009T160000
DTSTAMP:20260422T070838
CREATED:20250525T213439Z
LAST-MODIFIED:20250602T220946Z
UID:10001017-1760018400-1760025600@aboutmangerebridge.nz
SUMMARY:Māngere Bridge Craft Group at Māngere Bridge Library
DESCRIPTION:The Māngere Bridge Craft Group knits and crochets items for personal projects as well as important charities like the Middlemore Foundation.\nA colourful pile of 6 blankets and 45 baby hats plus cardigans\, knitted slippers\, adult sized hats\, knitted toys\, and some tiny hats and booties for premature babies.   Over 10o items in one recent workshop!!\nThe group meets weekly every Thursday from 2:00-4:pm and monthly every third Saturday from 2:00-3:45 pm\, in the Māngere Bridge Library.\nAll are welcome to join in.\nPeople can knit or crochet their own projects or produce items for local charities.\nDonations of wool or cotton yarn are most welcome and can be dropped off anytime at the Māngere Bridge Library.
URL:https://aboutmangerebridge.nz/event/mangere-bridge-craft-group-at-mangere-bridge-library/2025-10-09/
LOCATION:Māngere Bridge Library\, 5/7 Church Road\, Māngere Bridge\, Auckland\, 2022\, New Zealand
CATEGORIES:Art & Crafts,Community Events,For the kids,Free events,Friends of the Farm,Learn something
ATTACH;FMTTYPE=image/jpeg:https://aboutmangerebridge.nz/wp-content/uploads/2025/05/craft-group-with-friends-of-the-farm-mangere-bridge.jpg
ORGANIZER;CN="Friends of the Farm":MAILTO:friends@fof.nz
END:VEVENT
BEGIN:VEVENT
DTSTART;TZID=Pacific/Auckland:20251016T140000
DTEND;TZID=Pacific/Auckland:20251016T160000
DTSTAMP:20260422T070838
CREATED:20250525T213439Z
LAST-MODIFIED:20250602T220946Z
UID:10001018-1760623200-1760630400@aboutmangerebridge.nz
SUMMARY:Māngere Bridge Craft Group at Māngere Bridge Library
DESCRIPTION:The Māngere Bridge Craft Group knits and crochets items for personal projects as well as important charities like the Middlemore Foundation.\nA colourful pile of 6 blankets and 45 baby hats plus cardigans\, knitted slippers\, adult sized hats\, knitted toys\, and some tiny hats and booties for premature babies.   Over 10o items in one recent workshop!!\nThe group meets weekly every Thursday from 2:00-4:pm and monthly every third Saturday from 2:00-3:45 pm\, in the Māngere Bridge Library.\nAll are welcome to join in.\nPeople can knit or crochet their own projects or produce items for local charities.\nDonations of wool or cotton yarn are most welcome and can be dropped off anytime at the Māngere Bridge Library.
URL:https://aboutmangerebridge.nz/event/mangere-bridge-craft-group-at-mangere-bridge-library/2025-10-16/
LOCATION:Māngere Bridge Library\, 5/7 Church Road\, Māngere Bridge\, Auckland\, 2022\, New Zealand
CATEGORIES:Art & Crafts,Community Events,For the kids,Free events,Friends of the Farm,Learn something
ATTACH;FMTTYPE=image/jpeg:https://aboutmangerebridge.nz/wp-content/uploads/2025/05/craft-group-with-friends-of-the-farm-mangere-bridge.jpg
ORGANIZER;CN="Friends of the Farm":MAILTO:friends@fof.nz
END:VEVENT
BEGIN:VEVENT
DTSTART;TZID=Pacific/Auckland:20251023T140000
DTEND;TZID=Pacific/Auckland:20251023T160000
DTSTAMP:20260422T070838
CREATED:20250525T213439Z
LAST-MODIFIED:20250602T220946Z
UID:10001019-1761228000-1761235200@aboutmangerebridge.nz
SUMMARY:Māngere Bridge Craft Group at Māngere Bridge Library
DESCRIPTION:The Māngere Bridge Craft Group knits and crochets items for personal projects as well as important charities like the Middlemore Foundation.\nA colourful pile of 6 blankets and 45 baby hats plus cardigans\, knitted slippers\, adult sized hats\, knitted toys\, and some tiny hats and booties for premature babies.   Over 10o items in one recent workshop!!\nThe group meets weekly every Thursday from 2:00-4:pm and monthly every third Saturday from 2:00-3:45 pm\, in the Māngere Bridge Library.\nAll are welcome to join in.\nPeople can knit or crochet their own projects or produce items for local charities.\nDonations of wool or cotton yarn are most welcome and can be dropped off anytime at the Māngere Bridge Library.
URL:https://aboutmangerebridge.nz/event/mangere-bridge-craft-group-at-mangere-bridge-library/2025-10-23/
LOCATION:Māngere Bridge Library\, 5/7 Church Road\, Māngere Bridge\, Auckland\, 2022\, New Zealand
CATEGORIES:Art & Crafts,Community Events,For the kids,Free events,Friends of the Farm,Learn something
ATTACH;FMTTYPE=image/jpeg:https://aboutmangerebridge.nz/wp-content/uploads/2025/05/craft-group-with-friends-of-the-farm-mangere-bridge.jpg
ORGANIZER;CN="Friends of the Farm":MAILTO:friends@fof.nz
END:VEVENT
BEGIN:VEVENT
DTSTART;TZID=Pacific/Auckland:20251030T140000
DTEND;TZID=Pacific/Auckland:20251030T160000
DTSTAMP:20260422T070838
CREATED:20250525T213439Z
LAST-MODIFIED:20250602T220946Z
UID:10001020-1761832800-1761840000@aboutmangerebridge.nz
SUMMARY:Māngere Bridge Craft Group at Māngere Bridge Library
DESCRIPTION:The Māngere Bridge Craft Group knits and crochets items for personal projects as well as important charities like the Middlemore Foundation.\nA colourful pile of 6 blankets and 45 baby hats plus cardigans\, knitted slippers\, adult sized hats\, knitted toys\, and some tiny hats and booties for premature babies.   Over 10o items in one recent workshop!!\nThe group meets weekly every Thursday from 2:00-4:pm and monthly every third Saturday from 2:00-3:45 pm\, in the Māngere Bridge Library.\nAll are welcome to join in.\nPeople can knit or crochet their own projects or produce items for local charities.\nDonations of wool or cotton yarn are most welcome and can be dropped off anytime at the Māngere Bridge Library.
URL:https://aboutmangerebridge.nz/event/mangere-bridge-craft-group-at-mangere-bridge-library/2025-10-30/
LOCATION:Māngere Bridge Library\, 5/7 Church Road\, Māngere Bridge\, Auckland\, 2022\, New Zealand
CATEGORIES:Art & Crafts,Community Events,For the kids,Free events,Friends of the Farm,Learn something
ATTACH;FMTTYPE=image/jpeg:https://aboutmangerebridge.nz/wp-content/uploads/2025/05/craft-group-with-friends-of-the-farm-mangere-bridge.jpg
ORGANIZER;CN="Friends of the Farm":MAILTO:friends@fof.nz
END:VEVENT
END:VCALENDAR