BEGIN:VCALENDAR
VERSION:2.0
PRODID:-//About Māngere Bridge - ECPv6.15.20//NONSGML v1.0//EN
CALSCALE:GREGORIAN
METHOD:PUBLISH
X-WR-CALNAME:About Māngere Bridge
X-ORIGINAL-URL:https://aboutmangerebridge.nz
X-WR-CALDESC:Events for About Māngere Bridge
REFRESH-INTERVAL;VALUE=DURATION:PT1H
X-Robots-Tag:noindex
X-PUBLISHED-TTL:PT1H
BEGIN:VTIMEZONE
TZID:Pacific/Auckland
BEGIN:STANDARD
TZOFFSETFROM:+1300
TZOFFSETTO:+1200
TZNAME:NZST
DTSTART:20250405T140000
END:STANDARD
BEGIN:DAYLIGHT
TZOFFSETFROM:+1200
TZOFFSETTO:+1300
TZNAME:NZDT
DTSTART:20250927T140000
END:DAYLIGHT
BEGIN:STANDARD
TZOFFSETFROM:+1300
TZOFFSETTO:+1200
TZNAME:NZST
DTSTART:20260404T140000
END:STANDARD
BEGIN:DAYLIGHT
TZOFFSETFROM:+1200
TZOFFSETTO:+1300
TZNAME:NZDT
DTSTART:20260926T140000
END:DAYLIGHT
BEGIN:STANDARD
TZOFFSETFROM:+1300
TZOFFSETTO:+1200
TZNAME:NZST
DTSTART:20270403T140000
END:STANDARD
BEGIN:DAYLIGHT
TZOFFSETFROM:+1200
TZOFFSETTO:+1300
TZNAME:NZDT
DTSTART:20270925T140000
END:DAYLIGHT
END:VTIMEZONE
BEGIN:VEVENT
DTSTART;TZID=Pacific/Auckland:20260423T140000
DTEND;TZID=Pacific/Auckland:20260423T160000
DTSTAMP:20260421T225509
CREATED:20250525T213439Z
LAST-MODIFIED:20250602T220946Z
UID:10001045-1776952800-1776960000@aboutmangerebridge.nz
SUMMARY:Māngere Bridge Craft Group at Māngere Bridge Library
DESCRIPTION:The Māngere Bridge Craft Group knits and crochets items for personal projects as well as important charities like the Middlemore Foundation.\nA colourful pile of 6 blankets and 45 baby hats plus cardigans\, knitted slippers\, adult sized hats\, knitted toys\, and some tiny hats and booties for premature babies.   Over 10o items in one recent workshop!!\nThe group meets weekly every Thursday from 2:00-4:pm and monthly every third Saturday from 2:00-3:45 pm\, in the Māngere Bridge Library.\nAll are welcome to join in.\nPeople can knit or crochet their own projects or produce items for local charities.\nDonations of wool or cotton yarn are most welcome and can be dropped off anytime at the Māngere Bridge Library.
URL:https://aboutmangerebridge.nz/event/mangere-bridge-craft-group-at-mangere-bridge-library/2026-04-23/
LOCATION:Māngere Bridge Library\, 5/7 Church Road\, Māngere Bridge\, Auckland\, 2022\, New Zealand
CATEGORIES:Art & Crafts,Community Events,For the kids,Free events,Friends of the Farm,Learn something
ATTACH;FMTTYPE=image/jpeg:https://aboutmangerebridge.nz/wp-content/uploads/2025/05/craft-group-with-friends-of-the-farm-mangere-bridge.jpg
ORGANIZER;CN="Friends of the Farm":MAILTO:friends@fof.nz
END:VEVENT
BEGIN:VEVENT
DTSTART;TZID=Pacific/Auckland:20260424T151500
DTEND;TZID=Pacific/Auckland:20260424T161500
DTSTAMP:20260421T225509
CREATED:20260327T213654Z
LAST-MODIFIED:20260327T214500Z
UID:10001520-1777043700-1777047300@aboutmangerebridge.nz
SUMMARY:Waterlea Park Discussion Friday 24 April\, 3.15 - 4.15pm & Sat 25 April 10 - 11am
DESCRIPTION:Kia ora Waterlea Park neighbours! \nFriends of the Farm are supporting our community to care for Waterlea Park through a community-led native planting project. We’re keen to talk with park neighbours to find out more about how people use the park\, what ideas you have\, and who would like to be involved. \nWe’ll be down at the park on Friday 24 April\, 3.15 – 4.15pm and Sat 25 April 10 – 11am to chat with neighbours about the project- please pop down to say hello and share your ideas! \nJan and Justine \nSupported by Friends of the Farm
URL:https://aboutmangerebridge.nz/event/waterlea-park-discussion-friday-24-april-3-15-4-15pm-sat-25-april-10-11am/
LOCATION:Waterlea Park\, Māngere Bridge\, 28R House Avenue\, Māngere Bridge\, Auckland\, 2022\, New Zealand
CATEGORIES:Community Events,For the kids,Friends of the Farm,Learn something
ATTACH;FMTTYPE=image/jpeg:https://aboutmangerebridge.nz/wp-content/uploads/2026/03/waterlea-park-mangere-bridge-scaled.jpg
ORGANIZER;CN="Friends of the Farm":MAILTO:friends@fof.nz
END:VEVENT
BEGIN:VEVENT
DTSTART;TZID=Pacific/Auckland:20260425T100000
DTEND;TZID=Pacific/Auckland:20260425T110000
DTSTAMP:20260421T225509
CREATED:20260327T213750Z
LAST-MODIFIED:20260327T214510Z
UID:10001521-1777111200-1777114800@aboutmangerebridge.nz
SUMMARY:Waterlea Park Discussion Friday 24 April\, 3.15 - 4.15pm & Sat 25 April 10 - 11am
DESCRIPTION:Kia ora Waterlea Park neighbours! \nFriends of the Farm are supporting our community to care for Waterlea Park through a community-led native planting project. We’re keen to talk with park neighbours to find out more about how people use the park\, what ideas you have\, and who would like to be involved. \nWe’ll be down at the park on Friday 24 April\, 3.15 – 4.15pm and Sat 25 April 10 – 11am to chat with neighbours about the project- please pop down to say hello and share your ideas! \nJan and Justine \nSupported by Friends of the Farm
URL:https://aboutmangerebridge.nz/event/waterlea-park-discussion-friday-24-april-3-15-4-15pm-sat-25-april-10-11am-2/
LOCATION:Waterlea Park\, Māngere Bridge\, 28R House Avenue\, Māngere Bridge\, Auckland\, 2022\, New Zealand
CATEGORIES:Community Events,For the kids,Friends of the Farm,Learn something
ATTACH;FMTTYPE=image/jpeg:https://aboutmangerebridge.nz/wp-content/uploads/2026/03/waterlea-park-mangere-bridge-scaled.jpg
ORGANIZER;CN="Friends of the Farm":MAILTO:friends@fof.nz
END:VEVENT
BEGIN:VEVENT
DTSTART;TZID=Pacific/Auckland:20260430T140000
DTEND;TZID=Pacific/Auckland:20260430T160000
DTSTAMP:20260421T225509
CREATED:20250525T213439Z
LAST-MODIFIED:20250602T220946Z
UID:10001046-1777557600-1777564800@aboutmangerebridge.nz
SUMMARY:Māngere Bridge Craft Group at Māngere Bridge Library
DESCRIPTION:The Māngere Bridge Craft Group knits and crochets items for personal projects as well as important charities like the Middlemore Foundation.\nA colourful pile of 6 blankets and 45 baby hats plus cardigans\, knitted slippers\, adult sized hats\, knitted toys\, and some tiny hats and booties for premature babies.   Over 10o items in one recent workshop!!\nThe group meets weekly every Thursday from 2:00-4:pm and monthly every third Saturday from 2:00-3:45 pm\, in the Māngere Bridge Library.\nAll are welcome to join in.\nPeople can knit or crochet their own projects or produce items for local charities.\nDonations of wool or cotton yarn are most welcome and can be dropped off anytime at the Māngere Bridge Library.
URL:https://aboutmangerebridge.nz/event/mangere-bridge-craft-group-at-mangere-bridge-library/2026-04-30/
LOCATION:Māngere Bridge Library\, 5/7 Church Road\, Māngere Bridge\, Auckland\, 2022\, New Zealand
CATEGORIES:Art & Crafts,Community Events,For the kids,Free events,Friends of the Farm,Learn something
ATTACH;FMTTYPE=image/jpeg:https://aboutmangerebridge.nz/wp-content/uploads/2025/05/craft-group-with-friends-of-the-farm-mangere-bridge.jpg
ORGANIZER;CN="Friends of the Farm":MAILTO:friends@fof.nz
END:VEVENT
END:VCALENDAR