BEGIN:VCALENDAR
VERSION:2.0
PRODID:-//About Māngere Bridge - ECPv6.15.20//NONSGML v1.0//EN
CALSCALE:GREGORIAN
METHOD:PUBLISH
X-WR-CALNAME:About Māngere Bridge
X-ORIGINAL-URL:https://aboutmangerebridge.nz
X-WR-CALDESC:Events for About Māngere Bridge
REFRESH-INTERVAL;VALUE=DURATION:PT1H
X-Robots-Tag:noindex
X-PUBLISHED-TTL:PT1H
BEGIN:VTIMEZONE
TZID:Pacific/Auckland
BEGIN:STANDARD
TZOFFSETFROM:+1300
TZOFFSETTO:+1200
TZNAME:NZST
DTSTART:20230401T140000
END:STANDARD
BEGIN:DAYLIGHT
TZOFFSETFROM:+1200
TZOFFSETTO:+1300
TZNAME:NZDT
DTSTART:20230923T140000
END:DAYLIGHT
BEGIN:STANDARD
TZOFFSETFROM:+1300
TZOFFSETTO:+1200
TZNAME:NZST
DTSTART:20240406T140000
END:STANDARD
BEGIN:DAYLIGHT
TZOFFSETFROM:+1200
TZOFFSETTO:+1300
TZNAME:NZDT
DTSTART:20240928T140000
END:DAYLIGHT
BEGIN:STANDARD
TZOFFSETFROM:+1300
TZOFFSETTO:+1200
TZNAME:NZST
DTSTART:20250405T140000
END:STANDARD
BEGIN:DAYLIGHT
TZOFFSETFROM:+1200
TZOFFSETTO:+1300
TZNAME:NZDT
DTSTART:20250927T140000
END:DAYLIGHT
END:VTIMEZONE
BEGIN:VEVENT
DTSTART;TZID=Pacific/Auckland:20240512T100000
DTEND;TZID=Pacific/Auckland:20240512T130000
DTSTAMP:20260418T043119
CREATED:20240416T063951Z
LAST-MODIFIED:20240531T013454Z
UID:10000902-1715508000-1715518800@aboutmangerebridge.nz
SUMMARY:Ambury Regional Park Planting Days
DESCRIPTION:Join us at Ambury Regional Park for this fun and rewarding day out on our regional parks\, bring your family and friends to help plant trees to restore the natural environment of the Ambury foreshore.\nThere are 9500 plants to plant this season at Ambury Regional Park.\nJoin Friends of the Farm in the ongoing protection and restoration of the foreshore\, wetlands\, freshwater wetlands\, salt marsh and salt meadows along the Ambury Foreshore. \nDates \n\nSunday 12th May 2024 10am till 1pm\nSunday 19th May 2024 10am till 1pm\nSaturday 25th May 2024 10am till 1pm\n\nSuitable for the whole family\, please wear fully enclosed footwear\, weather appropriate clothing\, a bottle of water\, spade and gloves if you have them\, otherwise we can provide the tools.\nArrive in the main arrival area at Ambury Regional Park and follow the signs to the foreshore planting site.\nRemember to join in for a sausage sizzle at the end of the planting\, to say thanks for your mahi!\nIf you would like to know more please contact: southernsectorevents@aucklandcouncil.govt.nz \nHelp our planning by registering your attendance here: https://events.humanitix.com/ambury-regional-park-planting-day
URL:https://aboutmangerebridge.nz/event/ambury-regional-park-planting-days/2024-05-12/
LOCATION:Ambury Regional Park\, 43 Ambury Road\, Māngere Bridge\, Auckland\, 2022\, New Zealand
CATEGORIES:Community Events,For the kids,Friends of the Farm,Tree Planting
ATTACH;FMTTYPE=image/jpeg:https://aboutmangerebridge.nz/wp-content/uploads/2024/04/planting-day-poster.jpg
GEO:-36.945232167445;174.76462715213
X-APPLE-STRUCTURED-LOCATION;VALUE=URI;X-ADDRESS=Ambury Regional Park 43 Ambury Road Māngere Bridge Auckland 2022 New Zealand;X-APPLE-RADIUS=500;X-TITLE=43 Ambury Road:geo:174.76462715213,-36.945232167445
END:VEVENT
BEGIN:VEVENT
DTSTART;TZID=Pacific/Auckland:20240519T100000
DTEND;TZID=Pacific/Auckland:20240519T130000
DTSTAMP:20260418T043119
CREATED:20240416T063951Z
LAST-MODIFIED:20240531T013454Z
UID:10000921-1716112800-1716123600@aboutmangerebridge.nz
SUMMARY:Ambury Regional Park Planting Days
DESCRIPTION:Join us at Ambury Regional Park for this fun and rewarding day out on our regional parks\, bring your family and friends to help plant trees to restore the natural environment of the Ambury foreshore.\nThere are 9500 plants to plant this season at Ambury Regional Park.\nJoin Friends of the Farm in the ongoing protection and restoration of the foreshore\, wetlands\, freshwater wetlands\, salt marsh and salt meadows along the Ambury Foreshore. \nDates \n\nSunday 12th May 2024 10am till 1pm\nSunday 19th May 2024 10am till 1pm\nSaturday 25th May 2024 10am till 1pm\n\nSuitable for the whole family\, please wear fully enclosed footwear\, weather appropriate clothing\, a bottle of water\, spade and gloves if you have them\, otherwise we can provide the tools.\nArrive in the main arrival area at Ambury Regional Park and follow the signs to the foreshore planting site.\nRemember to join in for a sausage sizzle at the end of the planting\, to say thanks for your mahi!\nIf you would like to know more please contact: southernsectorevents@aucklandcouncil.govt.nz \nHelp our planning by registering your attendance here: https://events.humanitix.com/ambury-regional-park-planting-day
URL:https://aboutmangerebridge.nz/event/ambury-regional-park-planting-days/2024-05-19/
LOCATION:Ambury Regional Park\, 43 Ambury Road\, Māngere Bridge\, Auckland\, 2022\, New Zealand
CATEGORIES:Community Events,For the kids,Friends of the Farm,Tree Planting
ATTACH;FMTTYPE=image/jpeg:https://aboutmangerebridge.nz/wp-content/uploads/2024/04/planting-day-poster.jpg
GEO:-36.945232167445;174.76462715213
X-APPLE-STRUCTURED-LOCATION;VALUE=URI;X-ADDRESS=Ambury Regional Park 43 Ambury Road Māngere Bridge Auckland 2022 New Zealand;X-APPLE-RADIUS=500;X-TITLE=43 Ambury Road:geo:174.76462715213,-36.945232167445
END:VEVENT
BEGIN:VEVENT
DTSTART;TZID=Pacific/Auckland:20240525T100000
DTEND;TZID=Pacific/Auckland:20240525T130000
DTSTAMP:20260418T043119
CREATED:20240416T063951Z
LAST-MODIFIED:20240531T013454Z
UID:10000922-1716631200-1716642000@aboutmangerebridge.nz
SUMMARY:Ambury Regional Park Planting Days
DESCRIPTION:Join us at Ambury Regional Park for this fun and rewarding day out on our regional parks\, bring your family and friends to help plant trees to restore the natural environment of the Ambury foreshore.\nThere are 9500 plants to plant this season at Ambury Regional Park.\nJoin Friends of the Farm in the ongoing protection and restoration of the foreshore\, wetlands\, freshwater wetlands\, salt marsh and salt meadows along the Ambury Foreshore. \nDates \n\nSunday 12th May 2024 10am till 1pm\nSunday 19th May 2024 10am till 1pm\nSaturday 25th May 2024 10am till 1pm\n\nSuitable for the whole family\, please wear fully enclosed footwear\, weather appropriate clothing\, a bottle of water\, spade and gloves if you have them\, otherwise we can provide the tools.\nArrive in the main arrival area at Ambury Regional Park and follow the signs to the foreshore planting site.\nRemember to join in for a sausage sizzle at the end of the planting\, to say thanks for your mahi!\nIf you would like to know more please contact: southernsectorevents@aucklandcouncil.govt.nz \nHelp our planning by registering your attendance here: https://events.humanitix.com/ambury-regional-park-planting-day
URL:https://aboutmangerebridge.nz/event/ambury-regional-park-planting-days/2024-05-25/
LOCATION:Ambury Regional Park\, 43 Ambury Road\, Māngere Bridge\, Auckland\, 2022\, New Zealand
CATEGORIES:Community Events,For the kids,Friends of the Farm,Tree Planting
ATTACH;FMTTYPE=image/jpeg:https://aboutmangerebridge.nz/wp-content/uploads/2024/04/planting-day-poster.jpg
GEO:-36.945232167445;174.76462715213
X-APPLE-STRUCTURED-LOCATION;VALUE=URI;X-ADDRESS=Ambury Regional Park 43 Ambury Road Māngere Bridge Auckland 2022 New Zealand;X-APPLE-RADIUS=500;X-TITLE=43 Ambury Road:geo:174.76462715213,-36.945232167445
END:VEVENT
END:VCALENDAR