BEGIN:VCALENDAR
VERSION:2.0
PRODID:-//About Māngere Bridge - ECPv6.15.20//NONSGML v1.0//EN
CALSCALE:GREGORIAN
METHOD:PUBLISH
X-WR-CALNAME:About Māngere Bridge
X-ORIGINAL-URL:https://aboutmangerebridge.nz
X-WR-CALDESC:Events for About Māngere Bridge
REFRESH-INTERVAL;VALUE=DURATION:PT1H
X-Robots-Tag:noindex
X-PUBLISHED-TTL:PT1H
BEGIN:VTIMEZONE
TZID:Pacific/Auckland
BEGIN:STANDARD
TZOFFSETFROM:+1300
TZOFFSETTO:+1200
TZNAME:NZST
DTSTART:20230401T140000
END:STANDARD
BEGIN:DAYLIGHT
TZOFFSETFROM:+1200
TZOFFSETTO:+1300
TZNAME:NZDT
DTSTART:20230923T140000
END:DAYLIGHT
BEGIN:STANDARD
TZOFFSETFROM:+1300
TZOFFSETTO:+1200
TZNAME:NZST
DTSTART:20240406T140000
END:STANDARD
BEGIN:DAYLIGHT
TZOFFSETFROM:+1200
TZOFFSETTO:+1300
TZNAME:NZDT
DTSTART:20240928T140000
END:DAYLIGHT
BEGIN:STANDARD
TZOFFSETFROM:+1300
TZOFFSETTO:+1200
TZNAME:NZST
DTSTART:20250405T140000
END:STANDARD
BEGIN:DAYLIGHT
TZOFFSETFROM:+1200
TZOFFSETTO:+1300
TZNAME:NZDT
DTSTART:20250927T140000
END:DAYLIGHT
END:VTIMEZONE
BEGIN:VEVENT
DTSTART;TZID=Pacific/Auckland:20240928T100000
DTEND;TZID=Pacific/Auckland:20240928T120000
DTSTAMP:20260420T075034
CREATED:20240720T232857Z
LAST-MODIFIED:20240913T003534Z
UID:10000928-1727517600-1727524800@aboutmangerebridge.nz
SUMMARY:Māngere Bridge Seedling & Seed Swap Day - Sat Sept 28\, 10am - 12pm
DESCRIPTION:Friends of the Farm and local Meegan have come together and are excited to share with you our first Spring Seed & Seedling Swap! \nDid you save seed from last year’s māra and end up with more than you’ll ever plant? Chances are you’re not alone. \nDo you ever sow seeds and have left over seedlings once you’ve planted out your garden? You’re probably not alone there as well. \nIf you’re new to the gardening world or just excited to get into another season of growing\, this event is for you! \n\nSeeds\nSeedlings\nOld pots\nPlant your own seedling\nLearn to make your own biodegradable seedling pots\nLearn to make your own biodegradable bags for food waste bins\n\nBring it on down and see what you can swap them for\, what you have too much of\, someone may have none…\nWhat you have none of\, someone may have plenty! \nCLICK HERE FOR OUR 10 PAGE SEED SWAP BOOKLET (4Mb PDF)
URL:https://aboutmangerebridge.nz/event/mangere-bridge-seedling-seed-swap-day/
LOCATION:Ambury Regional Park\, 43 Ambury Road\, Māngere Bridge\, Auckland\, 2022\, New Zealand
CATEGORIES:Community Events,For the kids,Free events,Friends of the Farm,Gardening,Learn something
ATTACH;FMTTYPE=image/jpeg:https://aboutmangerebridge.nz/wp-content/uploads/2024/07/title-seedling-swap-generic.jpg
ORGANIZER;CN="Friends of the Farm":MAILTO:friends@fof.nz
GEO:-36.945232167445;174.76462715213
X-APPLE-STRUCTURED-LOCATION;VALUE=URI;X-ADDRESS=Ambury Regional Park 43 Ambury Road Māngere Bridge Auckland 2022 New Zealand;X-APPLE-RADIUS=500;X-TITLE=43 Ambury Road:geo:174.76462715213,-36.945232167445
END:VEVENT
END:VCALENDAR